Package: DspikeIn Version: 0.99.29 Command: rm -rf DspikeIn.buildbin-libdir && mkdir DspikeIn.buildbin-libdir && /Users/biocbuild/BBS/utils/build-universal.sh DspikeIn_0.99.29.tar.gz /Library/Frameworks/R.framework/Resources/bin/R DspikeIn.buildbin-libdir StartedAt: 2025-10-27 23:01:00 -0400 (Mon, 27 Oct 2025) EndedAt: 2025-10-27 23:01:25 -0400 (Mon, 27 Oct 2025) EllapsedTime: 24.5 seconds RetCode: 0 Status: OK PackageFile: DspikeIn_0.99.29.tgz PackageFileSize: 4.566 MiB