Package: DspikeIn Version: 0.99.29 Maintainer: Mitra Ghotbi MaintainerEmail: mitra.ghotbi at gmail.com git_url: https://git.bioconductor.org/packages/DspikeIn git_branch: devel git_last_commit: 27573e4 git_last_commit_date: 2025-10-22 14:23:04 -0400 (Wed, 22 Oct 2025)