Package: DrugVsDisease Version: 2.53.0 Command: /home/biocbuild/bbs-3.23-bioc/R/bin/R CMD INSTALL DrugVsDisease StartedAt: 2025-11-21 15:36:47 -0500 (Fri, 21 Nov 2025) EndedAt: 2025-11-21 15:37:22 -0500 (Fri, 21 Nov 2025) EllapsedTime: 34.4 seconds RetCode: 0 Status: OK