Package: DropletUtils Version: 1.29.7 Command: /home/biocbuild/R/R/bin/R CMD INSTALL DropletUtils StartedAt: 2025-10-06 20:54:05 -0000 (Mon, 06 Oct 2025) EndedAt: 2025-10-06 20:56:08 -0000 (Mon, 06 Oct 2025) EllapsedTime: 122.7 seconds RetCode: 0 Status: OK