Package: DropletUtils Version: 1.31.0 Command: /home/biocbuild/bbs-3.23-bioc/R/bin/R CMD INSTALL DropletUtils StartedAt: 2025-11-05 15:42:44 -0500 (Wed, 05 Nov 2025) EndedAt: 2025-11-05 15:44:15 -0500 (Wed, 05 Nov 2025) EllapsedTime: 90.7 seconds RetCode: 0 Status: OK