Package: DropletUtils Version: 1.31.0 Command: /home/biocbuild/bbs-3.23-bioc/R/bin/R CMD check --install=check:DropletUtils.install-out.txt --library=/home/biocbuild/bbs-3.23-bioc/R/site-library --timings DropletUtils_1.31.0.tar.gz StartedAt: 2025-11-06 22:57:37 -0500 (Thu, 06 Nov 2025) EndedAt: 2025-11-06 23:04:06 -0500 (Thu, 06 Nov 2025) EllapsedTime: 388.6 seconds RetCode: 0 Status: WARNINGS CheckDir: DropletUtils.Rcheck Warnings: 1