Package: DropletUtils Version: 1.31.0 Command: /home/biocbuild/bbs-3.23-bioc/R/bin/R CMD build --keep-empty-dirs --no-resave-data DropletUtils StartedAt: 2025-11-05 17:27:00 -0500 (Wed, 05 Nov 2025) EndedAt: 2025-11-05 17:28:45 -0500 (Wed, 05 Nov 2025) EllapsedTime: 105.1 seconds RetCode: 0 Status: OK PackageFile: DropletUtils_1.31.0.tar.gz PackageFileSize: 592.3 KiB