Package: DriverNet Version: 1.49.0 Command: /home/biocbuild/R/R/bin/R CMD INSTALL DriverNet StartedAt: 2025-09-29 20:32:12 -0000 (Mon, 29 Sep 2025) EndedAt: 2025-09-29 20:32:48 -0000 (Mon, 29 Sep 2025) EllapsedTime: 35.8 seconds RetCode: 0 Status: OK