Package: DriverNet Version: 1.49.0 Command: chmod a+r DriverNet -R && F:\biocbuild\bbs-3.22-bioc\R\bin\R.exe CMD build --keep-empty-dirs --no-resave-data DriverNet StartedAt: 2025-08-14 19:49:52 -0400 (Thu, 14 Aug 2025) EndedAt: 2025-08-14 19:50:45 -0400 (Thu, 14 Aug 2025) EllapsedTime: 53.3 seconds RetCode: 0 Status: OK PackageFile: DriverNet_1.49.0.tar.gz PackageFileSize: 1.117 MiB