Package: DriverNet Version: 1.51.0 Command: /home/biocbuild/bbs-3.23-bioc/R/bin/R CMD check --install=check:DriverNet.install-out.txt --library=/home/biocbuild/bbs-3.23-bioc/R/site-library --timings DriverNet_1.51.0.tar.gz StartedAt: 2025-11-20 23:12:16 -0500 (Thu, 20 Nov 2025) EndedAt: 2025-11-20 23:14:05 -0500 (Thu, 20 Nov 2025) EllapsedTime: 109.1 seconds RetCode: 0 Status: OK CheckDir: DriverNet.Rcheck Warnings: 0