Package: DriverNet Version: 1.51.0 Command: /home/biocbuild/bbs-3.23-bioc/R/bin/R CMD build --keep-empty-dirs --no-resave-data DriverNet StartedAt: 2025-11-18 18:15:45 -0500 (Tue, 18 Nov 2025) EndedAt: 2025-11-18 18:16:17 -0500 (Tue, 18 Nov 2025) EllapsedTime: 32.0 seconds RetCode: 0 Status: OK PackageFile: DriverNet_1.51.0.tar.gz PackageFileSize: 1.117 MiB