Package: Doscheda Version: 1.33.0 Command: /home/biocbuild/bbs-3.23-bioc/R/bin/R CMD INSTALL Doscheda StartedAt: 2025-11-07 15:13:46 -0500 (Fri, 07 Nov 2025) EndedAt: 2025-11-07 15:14:01 -0500 (Fri, 07 Nov 2025) EllapsedTime: 14.8 seconds RetCode: 0 Status: OK