Package: Doscheda Version: 1.33.0 Command: /home/biocbuild/bbs-3.23-bioc/R/bin/R CMD build --keep-empty-dirs --no-resave-data Doscheda StartedAt: 2025-11-07 17:19:52 -0500 (Fri, 07 Nov 2025) EndedAt: 2025-11-07 17:20:38 -0500 (Fri, 07 Nov 2025) EllapsedTime: 46.0 seconds RetCode: 0 Status: OK PackageFile: Doscheda_1.33.0.tar.gz PackageFileSize: 3.783 MiB