Package: Doscheda Version: 1.31.0 Command: /Library/Frameworks/R.framework/Resources/bin/R CMD INSTALL Doscheda StartedAt: 2025-10-10 15:09:44 -0400 (Fri, 10 Oct 2025) EndedAt: 2025-10-10 15:09:50 -0400 (Fri, 10 Oct 2025) EllapsedTime: 6.4 seconds RetCode: 0 Status: OK