Package: DominoEffect Version: 1.31.0 Command: /home/biocbuild/bbs-3.23-bioc/R/bin/R CMD INSTALL DominoEffect StartedAt: 2025-11-05 15:57:23 -0500 (Wed, 05 Nov 2025) EndedAt: 2025-11-05 15:58:03 -0500 (Wed, 05 Nov 2025) EllapsedTime: 39.9 seconds RetCode: 0 Status: OK