Package: DominoEffect Version: 1.31.0 Command: /home/biocbuild/bbs-3.23-bioc/R/bin/R CMD build --keep-empty-dirs --no-resave-data DominoEffect StartedAt: 2025-11-05 17:25:43 -0500 (Wed, 05 Nov 2025) EndedAt: 2025-11-05 17:26:58 -0500 (Wed, 05 Nov 2025) EllapsedTime: 75.1 seconds RetCode: 0 Status: OK PackageFile: DominoEffect_1.31.0.tar.gz PackageFileSize: 473.3 KiB