Package: DominoEffect Version: 1.29.5 Command: /Library/Frameworks/R.framework/Resources/bin/R CMD INSTALL DominoEffect StartedAt: 2025-10-27 15:39:29 -0400 (Mon, 27 Oct 2025) EndedAt: 2025-10-27 15:40:25 -0400 (Mon, 27 Oct 2025) EllapsedTime: 55.9 seconds RetCode: 0 Status: OK