Package: DominoEffect Version: 1.29.5 Command: /Library/Frameworks/R.framework/Resources/bin/R CMD build --keep-empty-dirs --no-resave-data DominoEffect StartedAt: 2025-10-27 16:46:10 -0400 (Mon, 27 Oct 2025) EndedAt: 2025-10-27 16:47:37 -0400 (Mon, 27 Oct 2025) EllapsedTime: 87.6 seconds RetCode: 0 Status: OK PackageFile: DominoEffect_1.29.5.tar.gz PackageFileSize: 473.2 KiB