Package: DominoEffect Version: 1.29.5 Command: rm -rf DominoEffect.buildbin-libdir && mkdir DominoEffect.buildbin-libdir && /Users/biocbuild/BBS/utils/build-universal.sh DominoEffect_1.29.5.tar.gz /Library/Frameworks/R.framework/Resources/bin/R DominoEffect.buildbin-libdir StartedAt: 2025-10-28 02:09:48 -0400 (Tue, 28 Oct 2025) EndedAt: 2025-10-28 02:10:47 -0400 (Tue, 28 Oct 2025) EllapsedTime: 59.0 seconds RetCode: 0 Status: OK PackageFile: DominoEffect_1.29.5.tgz PackageFileSize: 547.1 KiB