Package: DominoEffect Version: 1.29.3 Command: /Library/Frameworks/R.framework/Resources/bin/R CMD build --keep-empty-dirs --no-resave-data DominoEffect StartedAt: 2025-10-03 16:14:46 -0400 (Fri, 03 Oct 2025) EndedAt: 2025-10-03 16:15:25 -0400 (Fri, 03 Oct 2025) EllapsedTime: 39.4 seconds RetCode: 0 Status: OK PackageFile: DominoEffect_1.29.3.tar.gz PackageFileSize: 473.6 KiB