Package: DiscoRhythm Version: 1.27.0 Command: /home/biocbuild/bbs-3.23-bioc/R/bin/R CMD build --keep-empty-dirs --no-resave-data DiscoRhythm StartedAt: 2025-11-07 17:16:21 -0500 (Fri, 07 Nov 2025) EndedAt: 2025-11-07 17:17:06 -0500 (Fri, 07 Nov 2025) EllapsedTime: 45.0 seconds RetCode: 0 Status: OK PackageFile: DiscoRhythm_1.27.0.tar.gz PackageFileSize: 2.522 MiB