Package: DiscoRhythm Version: 1.25.0 Command: /Library/Frameworks/R.framework/Resources/bin/R CMD INSTALL DiscoRhythm StartedAt: 2025-10-19 15:20:38 -0400 (Sun, 19 Oct 2025) EndedAt: 2025-10-19 15:21:16 -0400 (Sun, 19 Oct 2025) EllapsedTime: 37.6 seconds RetCode: 0 Status: OK