Package: DiscoRhythm Version: 1.25.0 Command: /Library/Frameworks/R.framework/Resources/bin/R CMD build --keep-empty-dirs --no-resave-data DiscoRhythm StartedAt: 2025-10-19 16:57:54 -0400 (Sun, 19 Oct 2025) EndedAt: 2025-10-19 16:58:56 -0400 (Sun, 19 Oct 2025) EllapsedTime: 61.9 seconds RetCode: 0 Status: OK PackageFile: DiscoRhythm_1.25.0.tar.gz PackageFileSize: 2.522 MiB