Package: DiscoRhythm Version: 1.25.0 Command: /Library/Frameworks/R.framework/Resources/bin/R CMD INSTALL DiscoRhythm StartedAt: 2025-09-30 15:11:42 -0400 (Tue, 30 Sep 2025) EndedAt: 2025-09-30 15:11:52 -0400 (Tue, 30 Sep 2025) EllapsedTime: 10.4 seconds RetCode: 0 Status: OK