Package: DiscoRhythm Version: 1.25.0 Command: /Library/Frameworks/R.framework/Resources/bin/R CMD build --keep-empty-dirs --no-resave-data DiscoRhythm StartedAt: 2025-09-30 16:13:29 -0400 (Tue, 30 Sep 2025) EndedAt: 2025-09-30 16:13:48 -0400 (Tue, 30 Sep 2025) EllapsedTime: 19.2 seconds RetCode: 0 Status: OK PackageFile: DiscoRhythm_1.25.0.tar.gz PackageFileSize: 2.522 MiB