Package: DiscoRhythm Version: 1.25.0 Command: rm -rf DiscoRhythm.buildbin-libdir && mkdir DiscoRhythm.buildbin-libdir && /Users/biocbuild/BBS/utils/build-universal.sh DiscoRhythm_1.25.0.tar.gz /Library/Frameworks/R.framework/Resources/bin/R DiscoRhythm.buildbin-libdir StartedAt: 2025-09-30 22:37:58 -0400 (Tue, 30 Sep 2025) EndedAt: 2025-09-30 22:38:10 -0400 (Tue, 30 Sep 2025) EllapsedTime: 12.2 seconds RetCode: 0 Status: OK PackageFile: DiscoRhythm_1.25.0.tgz PackageFileSize: 1.915 MiB