Package: DiscoRhythm Version: 1.27.0 Maintainer: Matthew Carlucci MaintainerEmail: Matthew.Carlucci at camh.ca git_url: https://git.bioconductor.org/packages/DiscoRhythm git_branch: devel git_last_commit: 15d7b60 git_last_commit_date: 2025-10-29 10:51:20 -0500 (Wed, 29 Oct 2025)