Package: DirichletMultinomial Version: 1.51.0 Command: /home/biocbuild/R/R/bin/R CMD INSTALL DirichletMultinomial StartedAt: 2025-10-06 20:26:05 -0000 (Mon, 06 Oct 2025) EndedAt: 2025-10-06 20:26:16 -0000 (Mon, 06 Oct 2025) EllapsedTime: 11.4 seconds RetCode: 0 Status: OK