Package: DirichletMultinomial Version: 1.51.0 Command: /home/biocbuild/R/R/bin/R CMD build --keep-empty-dirs --no-resave-data DirichletMultinomial StartedAt: 2025-10-06 23:19:52 -0000 (Mon, 06 Oct 2025) EndedAt: 2025-10-06 23:20:14 -0000 (Mon, 06 Oct 2025) EllapsedTime: 22.0 seconds RetCode: 0 Status: OK PackageFile: DirichletMultinomial_1.51.0.tar.gz PackageFileSize: 845.8 KiB