Package: DirichletMultinomial Version: 1.51.0 Command: chmod a+r DirichletMultinomial -R && F:\biocbuild\bbs-3.22-bioc\R\bin\R.exe CMD build --keep-empty-dirs --no-resave-data DirichletMultinomial StartedAt: 2025-08-14 19:45:05 -0400 (Thu, 14 Aug 2025) EndedAt: 2025-08-14 19:45:51 -0400 (Thu, 14 Aug 2025) EllapsedTime: 45.5 seconds RetCode: 0 Status: OK PackageFile: DirichletMultinomial_1.51.0.tar.gz PackageFileSize: 658.4 KiB