Package: DirichletMultinomial Version: 1.51.0 Command: rm -rf DirichletMultinomial.buildbin-libdir && mkdir DirichletMultinomial.buildbin-libdir && F:\biocbuild\bbs-3.22-bioc\R\bin\R.exe CMD INSTALL --build --library=DirichletMultinomial.buildbin-libdir DirichletMultinomial_1.51.0.tar.gz StartedAt: 2025-08-15 10:09:59 -0400 (Fri, 15 Aug 2025) EndedAt: 2025-08-15 10:11:47 -0400 (Fri, 15 Aug 2025) EllapsedTime: 108.0 seconds RetCode: 0 Status: OK PackageFile: DirichletMultinomial_1.51.0.zip PackageFileSize: 1.016 MiB