Package: DirichletMultinomial Version: 1.53.0 Command: /home/biocbuild/bbs-3.23-bioc/R/bin/R CMD check --install=check:DirichletMultinomial.install-out.txt --library=/home/biocbuild/bbs-3.23-bioc/R/site-library --timings DirichletMultinomial_1.53.0.tar.gz StartedAt: 2025-11-20 23:02:22 -0500 (Thu, 20 Nov 2025) EndedAt: 2025-11-20 23:03:22 -0500 (Thu, 20 Nov 2025) EllapsedTime: 60.0 seconds RetCode: 0 Status: WARNINGS CheckDir: DirichletMultinomial.Rcheck Warnings: 1