Package: Dino Version: 1.17.0 Command: /home/biocbuild/bbs-3.23-bioc/R/bin/R CMD INSTALL Dino StartedAt: 2025-11-20 15:54:07 -0500 (Thu, 20 Nov 2025) EndedAt: 2025-11-20 15:54:46 -0500 (Thu, 20 Nov 2025) EllapsedTime: 39.2 seconds RetCode: 0 Status: OK