Package: Dino Version: 1.17.0 Command: /Library/Frameworks/R.framework/Resources/bin/R CMD INSTALL Dino StartedAt: 2025-11-17 15:47:49 -0500 (Mon, 17 Nov 2025) EndedAt: 2025-11-17 15:48:44 -0500 (Mon, 17 Nov 2025) EllapsedTime: 55.1 seconds RetCode: 0 Status: OK