Package: Dino Version: 1.17.0 Command: /Library/Frameworks/R.framework/Resources/bin/R CMD build --keep-empty-dirs --no-resave-data Dino StartedAt: 2025-11-16 21:51:17 -0500 (Sun, 16 Nov 2025) EndedAt: 2025-11-16 21:53:26 -0500 (Sun, 16 Nov 2025) EllapsedTime: 128.8 seconds RetCode: 0 Status: OK PackageFile: Dino_1.17.0.tar.gz PackageFileSize: 1.522 MiB