Package: Dino Version: 1.17.0 Command: rm -rf Dino.buildbin-libdir && mkdir Dino.buildbin-libdir && /Users/biocbuild/BBS/utils/build-universal.sh Dino_1.17.0.tar.gz /Library/Frameworks/R.framework/Resources/bin/R Dino.buildbin-libdir StartedAt: 2025-11-17 06:53:06 -0500 (Mon, 17 Nov 2025) EndedAt: 2025-11-17 06:54:04 -0500 (Mon, 17 Nov 2025) EllapsedTime: 57.9 seconds RetCode: 0 Status: OK PackageFile: Dino_1.17.0.tgz PackageFileSize: 1.564 MiB