Package: Dino Version: 1.15.0 Command: /Library/Frameworks/R.framework/Resources/bin/R CMD INSTALL Dino StartedAt: 2025-10-22 15:29:45 -0400 (Wed, 22 Oct 2025) EndedAt: 2025-10-22 15:30:02 -0400 (Wed, 22 Oct 2025) EllapsedTime: 16.6 seconds RetCode: 0 Status: OK