Package: DifferentialRegulation Version: 2.7.0 Command: /home/biocbuild/R/R/bin/R CMD INSTALL DifferentialRegulation StartedAt: 2025-10-13 21:12:44 -0000 (Mon, 13 Oct 2025) EndedAt: 2025-10-13 21:13:56 -0000 (Mon, 13 Oct 2025) EllapsedTime: 72.2 seconds RetCode: 0 Status: OK