Package: DifferentialRegulation Version: 2.7.0 Command: /home/biocbuild/R/R/bin/R CMD build --keep-empty-dirs --no-resave-data DifferentialRegulation StartedAt: 2025-10-13 23:49:38 -0000 (Mon, 13 Oct 2025) EndedAt: 2025-10-14 00:29:38 -0000 (Tue, 14 Oct 2025) EllapsedTime: 2400.0 seconds RetCode: None Status: TIMEOUT PackageFile: None PackageFileSize: NA