Package: DifferentialRegulation Version: 2.9.0 Command: /home/biocbuild/bbs-3.23-bioc/R/bin/R CMD check --install=check:DifferentialRegulation.install-out.txt --library=/home/biocbuild/bbs-3.23-bioc/R/site-library --timings DifferentialRegulation_2.9.0.tar.gz StartedAt: 2025-11-07 22:59:54 -0500 (Fri, 07 Nov 2025) EndedAt: 2025-11-07 23:07:57 -0500 (Fri, 07 Nov 2025) EllapsedTime: 483.6 seconds RetCode: 0 Status: OK CheckDir: DifferentialRegulation.Rcheck Warnings: 0