Package: DifferentialRegulation Version: 2.9.0 Command: /home/biocbuild/bbs-3.23-bioc/R/bin/R CMD build --keep-empty-dirs --no-resave-data DifferentialRegulation StartedAt: 2025-11-05 17:21:16 -0500 (Wed, 05 Nov 2025) EndedAt: 2025-11-05 17:24:24 -0500 (Wed, 05 Nov 2025) EllapsedTime: 187.2 seconds RetCode: 0 Status: OK PackageFile: DifferentialRegulation_2.9.0.tar.gz PackageFileSize: 3.119 MiB