Package: DiffLogo Version: 2.35.0 Command: /home/biocbuild/bbs-3.23-bioc/R/bin/R CMD INSTALL DiffLogo StartedAt: 2025-10-31 15:11:03 -0400 (Fri, 31 Oct 2025) EndedAt: 2025-10-31 15:11:21 -0400 (Fri, 31 Oct 2025) EllapsedTime: 17.5 seconds RetCode: 0 Status: OK