Package: DiffLogo Version: 2.35.0 Command: /home/biocbuild/bbs-3.23-bioc/R/bin/R CMD check --install=check:DiffLogo.install-out.txt --library=/home/biocbuild/bbs-3.23-bioc/R/site-library --timings DiffLogo_2.35.0.tar.gz StartedAt: 2025-10-31 22:50:38 -0400 (Fri, 31 Oct 2025) EndedAt: 2025-10-31 22:51:49 -0400 (Fri, 31 Oct 2025) EllapsedTime: 71.1 seconds RetCode: 0 Status: WARNINGS CheckDir: DiffLogo.Rcheck Warnings: 1