Package: DiffBind Version: 3.19.0 Command: F:\biocbuild\bbs-3.22-bioc\R\bin\R.exe CMD INSTALL DiffBind StartedAt: 2025-08-14 16:53:30 -0400 (Thu, 14 Aug 2025) EndedAt: 2025-08-14 16:55:54 -0400 (Thu, 14 Aug 2025) EllapsedTime: 144.7 seconds RetCode: 0 Status: OK