Package: DiffBind Version: 3.21.0 Command: /home/biocbuild/bbs-3.23-bioc/R/bin/R CMD INSTALL DiffBind StartedAt: 2025-11-05 16:02:14 -0500 (Wed, 05 Nov 2025) EndedAt: 2025-11-05 16:03:27 -0500 (Wed, 05 Nov 2025) EllapsedTime: 73.1 seconds RetCode: 0 Status: OK