Package: DiffBind Version: 3.21.0 Command: /home/biocbuild/bbs-3.23-bioc/R/bin/R CMD build --keep-empty-dirs --no-resave-data DiffBind StartedAt: 2025-11-05 17:20:46 -0500 (Wed, 05 Nov 2025) EndedAt: 2025-11-05 17:24:18 -0500 (Wed, 05 Nov 2025) EllapsedTime: 211.2 seconds RetCode: 0 Status: OK PackageFile: DiffBind_3.21.0.tar.gz PackageFileSize: 6.483 MiB