Package: DepecheR Version: 1.27.0 Command: /home/biocbuild/bbs-3.23-bioc/R/bin/R CMD INSTALL DepecheR StartedAt: 2025-11-07 15:10:46 -0500 (Fri, 07 Nov 2025) EndedAt: 2025-11-07 15:11:18 -0500 (Fri, 07 Nov 2025) EllapsedTime: 31.4 seconds RetCode: 0 Status: OK