Package: DepecheR Version: 1.25.0 Command: /Library/Frameworks/R.framework/Resources/bin/R CMD INSTALL DepecheR StartedAt: 2025-10-24 15:20:27 -0400 (Fri, 24 Oct 2025) EndedAt: 2025-10-24 15:20:55 -0400 (Fri, 24 Oct 2025) EllapsedTime: 28.4 seconds RetCode: 0 Status: OK