Package: DepecheR Version: 1.25.0 Command: /Library/Frameworks/R.framework/Resources/bin/R CMD build --keep-empty-dirs --no-resave-data DepecheR StartedAt: 2025-10-24 16:50:01 -0400 (Fri, 24 Oct 2025) EndedAt: 2025-10-24 16:50:57 -0400 (Fri, 24 Oct 2025) EllapsedTime: 55.9 seconds RetCode: 0 Status: OK PackageFile: DepecheR_1.25.0.tar.gz PackageFileSize: 2.561 MiB