Package: DepecheR Version: 1.25.0 Command: /Library/Frameworks/R.framework/Resources/bin/R CMD INSTALL DepecheR StartedAt: 2025-10-09 15:06:28 -0400 (Thu, 09 Oct 2025) EndedAt: 2025-10-09 15:06:41 -0400 (Thu, 09 Oct 2025) EllapsedTime: 12.8 seconds RetCode: 0 Status: OK